BEGIN:VCALENDAR
VERSION:2.0
PRODID:-//EHMA - ECPv4.4.5//NONSGML v1.0//EN
CALSCALE:GREGORIAN
METHOD:PUBLISH
X-WR-CALNAME:EHMA
X-ORIGINAL-URL:http://ehma.org
X-WR-CALDESC:Events for EHMA
BEGIN:VEVENT
DTSTART;TZID=UTC+0:20170720T080000
DTEND;TZID=UTC+0:20170720T170000
DTSTAMP:20170728T042844
CREATED:20170720T132608Z
LAST-MODIFIED:20170720T132608Z
UID:2087-1500537600-1500570000@ehma.org
SUMMARY:1st International Conference on Public Health - From European to National Health Policy
DESCRIPTION:\n\nOrganized by Faculty of Public Health\n\nHosted by Prof. Victor Zlatkov\, MD\, PhD\,\n\nRector of Medical University - Sofia\n\nDedicated to\nthe 100th anniversary of the Medical University - Sofia\n\nSubmission Form!\nRegistration fee for EHMA Members: 10 % Discount on all Fees\nThe 1st International Conference on Public Health will gather International Scientific Experts and Policy Makers in the light of Present and Future Challenges in the fast developing World of Healthcare. The Conference\, titled “From European to National Health Policy”\, will become an important social and scientific event providing platform for activities and sessions focused to various professional groups involved in providing high quality health care services. The event provides opportunity for participants to explore multidisciplinary themes and topics under the scope of Health Policy\, Healthcare Prevention\, Social Medicine and Healthcare Services.\n\nYou are invited to submit abstract(s) for oral and poster presentations\, sharing your knowledge\, experience and innovative thinking\, contributing to the development of new Public Health Horizon.\n\n \n\nVenue: SOFIA TECH PARK\n\nLanguage of the Conference: English\n\n \n\nImportant dates\n\nDeadline for Abstract Submission -   30 July 2017\n\nDeadline for Full Paper Submission -  31 August 2017\n\nDeadline for Registration of Conference Participants - 31 August 2017\n\nDeadline for Registration of On-line Participants  -  1 October 2017\n\n \n\nPayments and Fees:\n\nRegistration fee for Conference participants: 200 Euro\n\nRegistration fee for On-line Participants: 55 Euro\nRegistration fee for EHMA Members: 10 % Discount on all Fees\n \n\nThe participation fee includes:\n\nParticipation in all plenary sessions\n\nConference materials- incl. abstracts and full text papers\n\nLunches\, coffee-breaks\, cocktail
URL:http://ehma.org/event/1st-international-conference-public-health-european-national-health-policy/
LOCATION:Bulgaria
CATEGORIES:Health Policy
END:VEVENT
END:VCALENDAR